BEGIN:VCALENDAR
VERSION:2.0
PRODID:-//OmniMagnetCalendar//EN
BEGIN:VEVENT
DTSTAMP:20190625T195740Z
STATUS:CONFIRMED
UID:hclouisiana.clubs.harvard.edu171
DTSTART:20251122T164500Z
DTEND:20251122T210100Z
LOCATION:Mid City Yacht Club, 440 S. St. Patrick Street, New Orleans, LA, USA,
SUMMARY:THE GAME watch party in New Orleans
DESCRIPTION:
BEGIN:VALARM
TRIGGER:-PT15M
ACTION:DISPLAY
END:VALARM
TRANSP:OPAQUE
END:VEVENT
END:VCALENDAR
