BEGIN:VCALENDAR
VERSION:2.0
PRODID:-//OmniMagnetCalendar//EN
BEGIN:VEVENT
DTSTAMP:20190625T195740Z
STATUS:CONFIRMED
UID:hclouisiana.clubs.harvard.edu165
DTSTART:20240229T173000Z
DTEND:20240229T190000Z
LOCATION:Regions Building, 400 Poydras Street, suite 100, New Orleans, LA, 70130, USA,
SUMMARY:THursday, February 29 -- Speaker Series
DESCRIPTION:
BEGIN:VALARM
TRIGGER:-PT15M
ACTION:DISPLAY
END:VALARM
TRANSP:OPAQUE
END:VEVENT
END:VCALENDAR
