BEGIN:VCALENDAR
VERSION:2.0
PRODID:-//OmniMagnetCalendar//EN
BEGIN:VEVENT
DTSTAMP:20190625T195740Z
STATUS:CONFIRMED
UID:hclouisiana.clubs.harvard.edu159
DTSTART:20230126T000012Z
DTEND:20230126T010012Z
LOCATION:Online,
SUMMARY:Webinar with Robert L. Clayton '73
DESCRIPTION:
BEGIN:VALARM
TRIGGER:-PT15M
ACTION:DISPLAY
END:VALARM
TRANSP:OPAQUE
END:VEVENT
END:VCALENDAR
