BEGIN:VCALENDAR
VERSION:2.0
PRODID:-//OmniMagnetCalendar//EN
BEGIN:VEVENT
DTSTAMP:20190625T195740Z
STATUS:CONFIRMED
UID:hclouisiana.clubs.harvard.edu158
DTSTART:20230112T180037Z
DTEND:20230112T200037Z
LOCATION:Commander's Palace -- Patio Room, 1403 Washington Street, New Orleans, LA, 70130, USA,
SUMMARY:Annual Luncheon
DESCRIPTION:
BEGIN:VALARM
TRIGGER:-PT15M
ACTION:DISPLAY
END:VALARM
TRANSP:OPAQUE
END:VEVENT
END:VCALENDAR
