BEGIN:VCALENDAR
VERSION:2.0
PRODID:-//OmniMagnetCalendar//EN
BEGIN:VEVENT
DTSTAMP:20190625T195740Z
STATUS:CONFIRMED
UID:hclouisiana.clubs.harvard.edu157
DTSTART:20221119T170000Z
DTEND:20221119T203000Z
LOCATION:The American Sports Saloon, 1200 Decatur Street, New Orleans, LA,
SUMMARY:Harvard-Yale football game watch party
DESCRIPTION:
BEGIN:VALARM
TRIGGER:-PT15M
ACTION:DISPLAY
END:VALARM
TRANSP:OPAQUE
END:VEVENT
END:VCALENDAR
