BEGIN:VCALENDAR
VERSION:2.0
PRODID:-//OmniMagnetCalendar//EN
BEGIN:VEVENT
DTSTAMP:20190625T195740Z
STATUS:CONFIRMED
UID:hclouisiana.clubs.harvard.edu148
DTSTART:20201015T000000Z
DTEND:20201015T010000Z
LOCATION:via Zoom,
SUMMARY:“Politics, Protests & Pandemics:  What America will Survive?” -- a conversation with Prof. Timot
DESCRIPTION:
BEGIN:VALARM
TRIGGER:-PT15M
ACTION:DISPLAY
END:VALARM
TRANSP:OPAQUE
END:VEVENT
END:VCALENDAR
