BEGIN:VCALENDAR
VERSION:2.0
PRODID:-//OmniMagnetCalendar//EN
BEGIN:VEVENT
DTSTAMP:20190625T195740Z
STATUS:CONFIRMED
UID:hclouisiana.clubs.harvard.edu145
DTSTART:20200216T190022Z
DTEND:20200216T231322Z
LOCATION:the Uptown parade route, New Orleans, LA,
SUMMARY:Harvard Club of Louisiana is Riding in a Mardi Gras Parade
DESCRIPTION:
BEGIN:VALARM
TRIGGER:-PT15M
ACTION:DISPLAY
END:VALARM
TRANSP:OPAQUE
END:VEVENT
END:VCALENDAR
