BEGIN:VCALENDAR
VERSION:2.0
PRODID:-//OmniMagnetCalendar//EN
BEGIN:VEVENT
DTSTAMP:20190625T195740Z
STATUS:CONFIRMED
UID:hclouisiana.clubs.harvard.edu140
DTSTART:20191123T000000Z
DTEND:20191123T013000Z
LOCATION:revealed after ticket purchase, New Orleans, LA, USA,
SUMMARY:Harvard Club of Louisiana Absinthe Education Night
DESCRIPTION:
BEGIN:VALARM
TRIGGER:-PT15M
ACTION:DISPLAY
END:VALARM
TRANSP:OPAQUE
END:VEVENT
END:VCALENDAR
