BEGIN:VCALENDAR
VERSION:2.0
PRODID:-//OmniMagnetCalendar//EN
BEGIN:VEVENT
DTSTAMP:20190625T195740Z
STATUS:CONFIRMED
UID:hclouisiana.clubs.harvard.edu138
DTSTART:20191005T140000Z
DTEND:20191005T220000Z
LOCATION:City Park Festival Grounds, New Orleans, LA,
SUMMARY:Harvard Club of Louisiana members volunteering at Beignet Fest
DESCRIPTION:
BEGIN:VALARM
TRIGGER:-PT15M
ACTION:DISPLAY
END:VALARM
TRANSP:OPAQUE
END:VEVENT
END:VCALENDAR
