BEGIN:VCALENDAR
VERSION:2.0
PRODID:-//OmniMagnetCalendar//EN
BEGIN:VEVENT
DTSTAMP:20190625T195740Z
STATUS:CONFIRMED
UID:hclouisiana.clubs.harvard.edu134
DTSTART:20190507T161500Z
DTEND:20190507T174500Z
LOCATION:Cafe Reconcile's Emeril Room, 1631 Oretha Castle Haley Blvd., New Orleans, LA, USA,
SUMMARY:A presentation by, and conversation with, Harvard Professor Timothy P. McCarthy on Precarious Progre
DESCRIPTION:
BEGIN:VALARM
TRIGGER:-PT15M
ACTION:DISPLAY
END:VALARM
TRANSP:OPAQUE
END:VEVENT
END:VCALENDAR
