BEGIN:VCALENDAR
VERSION:2.0
PRODID:-//OmniMagnetCalendar//EN
BEGIN:VEVENT
DTSTAMP:20190625T195740Z
STATUS:CONFIRMED
UID:hclouisiana.clubs.harvard.edu131
DTSTART:20190108T110000Z
DTEND:20190108T130000Z
LOCATION:Coquette Restaurant's private dining space, 2800 Magazine Street, New Orleans, LA, 70115,
SUMMARY:2019 Annual Club Luncheon and Meeting
DESCRIPTION:
BEGIN:VALARM
TRIGGER:-PT15M
ACTION:DISPLAY
END:VALARM
TRANSP:OPAQUE
END:VEVENT
END:VCALENDAR
