BEGIN:VCALENDAR
VERSION:2.0
PRODID:-//OmniMagnetCalendar//EN
BEGIN:VEVENT
DTSTAMP:20190625T195740Z
STATUS:CONFIRMED
UID:hclouisiana.clubs.harvard.edu128
DTSTART:20181017T150000Z
DTEND:20181017T180000Z
LOCATION:L'il Gem Saloon, 445 South Rampart Street, New Orleans, LA,
SUMMARY:Save the Date:  HBS Global Networking Night
DESCRIPTION:
BEGIN:VALARM
TRIGGER:-PT15M
ACTION:DISPLAY
END:VALARM
TRANSP:OPAQUE
END:VEVENT
END:VCALENDAR
