BEGIN:VCALENDAR
VERSION:2.0
PRODID:-//OmniMagnetCalendar//EN
BEGIN:VEVENT
DTSTAMP:20190625T195740Z
STATUS:CONFIRMED
UID:hclouisiana.clubs.harvard.edu127
DTSTART:20180724T150000Z
DTEND:20180724T193000Z
LOCATION:Little Gem Saloon, 445 South Rampart Street, New Orleans, LA, 70112,
SUMMARY:Summertime Social
DESCRIPTION:
BEGIN:VALARM
TRIGGER:-PT15M
ACTION:DISPLAY
END:VALARM
TRANSP:OPAQUE
END:VEVENT
END:VCALENDAR
