BEGIN:VCALENDAR
VERSION:2.0
PRODID:-//OmniMagnetCalendar//EN
BEGIN:VEVENT
DTSTAMP:20190625T195740Z
STATUS:CONFIRMED
UID:hclouisiana.clubs.harvard.edu124
DTSTART:20180420T161500Z
DTEND:20180420T161500Z
LOCATION:The International School of Louisiana, 1400 Camp Street, New Orleans, LA, 70130,
SUMMARY:Special Event:  Prof. Timothy McCarthy on Pedagogy and Privilege
DESCRIPTION:
BEGIN:VALARM
TRIGGER:-PT15M
ACTION:DISPLAY
END:VALARM
TRANSP:OPAQUE
END:VEVENT
END:VCALENDAR
