BEGIN:VCALENDAR
VERSION:2.0
PRODID:-//OmniMagnetCalendar//EN
BEGIN:VEVENT
DTSTAMP:20190625T195740Z
STATUS:CONFIRMED
UID:hclouisiana.clubs.harvard.edu117
DTSTART:20171018T153000Z
DTEND:20171018T183000Z
LOCATION:The Lil' Gem Saloon, 445 South Rampart Street, New Orleans, LA,
SUMMARY:Global Networking NIght -- October 18th
DESCRIPTION:
BEGIN:VALARM
TRIGGER:-PT15M
ACTION:DISPLAY
END:VALARM
TRANSP:OPAQUE
END:VEVENT
END:VCALENDAR
